BEGIN:VCALENDAR
VERSION:2.0
PRODID:-//St. George&#039;s Lodge no. 15 - ECPv6.15.20//NONSGML v1.0//EN
CALSCALE:GREGORIAN
METHOD:PUBLISH
X-WR-CALNAME:St. George&#039;s Lodge no. 15
X-ORIGINAL-URL:https://stgeorges15.com
X-WR-CALDESC:Events for St. George&#039;s Lodge no. 15
REFRESH-INTERVAL;VALUE=DURATION:PT1H
X-Robots-Tag:noindex
X-PUBLISHED-TTL:PT1H
BEGIN:VTIMEZONE
TZID:America/Toronto
BEGIN:DAYLIGHT
TZOFFSETFROM:-0500
TZOFFSETTO:-0400
TZNAME:EDT
DTSTART:20240310T070000
END:DAYLIGHT
BEGIN:STANDARD
TZOFFSETFROM:-0400
TZOFFSETTO:-0500
TZNAME:EST
DTSTART:20241103T060000
END:STANDARD
BEGIN:DAYLIGHT
TZOFFSETFROM:-0500
TZOFFSETTO:-0400
TZNAME:EDT
DTSTART:20250309T070000
END:DAYLIGHT
BEGIN:STANDARD
TZOFFSETFROM:-0400
TZOFFSETTO:-0500
TZNAME:EST
DTSTART:20251102T060000
END:STANDARD
BEGIN:DAYLIGHT
TZOFFSETFROM:-0500
TZOFFSETTO:-0400
TZNAME:EDT
DTSTART:20260308T070000
END:DAYLIGHT
BEGIN:STANDARD
TZOFFSETFROM:-0400
TZOFFSETTO:-0500
TZNAME:EST
DTSTART:20261101T060000
END:STANDARD
END:VTIMEZONE
BEGIN:VEVENT
DTSTART;TZID=America/Toronto:20251104T193000
DTEND;TZID=America/Toronto:20251104T213000
DTSTAMP:20260421T003832
CREATED:20250820T190535Z
LAST-MODIFIED:20250820T190611Z
UID:2048-1762284600-1762291800@stgeorges15.com
SUMMARY:Inter-District Visit - Niagara A to B Visit - Palmer Lodge no. 372
DESCRIPTION:
URL:https://stgeorges15.com/calendar/inter-district-visit-niagara-a-to-b-visit-palmer-lodge-no-372/
LOCATION:Palmer Lodge no. 372\, 293 Jarvis Street\, Fort Erie\, Ontario\, Canada
CATEGORIES:District Events
ATTACH;FMTTYPE=image/png:https://stgeorges15.com/wp-content/uploads/2025/08/DistrictA_Logo2.png
END:VEVENT
END:VCALENDAR