BEGIN:VCALENDAR
VERSION:2.0
PRODID:-//St. George&#039;s Lodge no. 15 - ECPv6.15.20//NONSGML v1.0//EN
CALSCALE:GREGORIAN
METHOD:PUBLISH
X-ORIGINAL-URL:https://stgeorges15.com
X-WR-CALDESC:Events for St. George&#039;s Lodge no. 15
REFRESH-INTERVAL;VALUE=DURATION:PT1H
X-Robots-Tag:noindex
X-PUBLISHED-TTL:PT1H
BEGIN:VTIMEZONE
TZID:America/Toronto
BEGIN:DAYLIGHT
TZOFFSETFROM:-0500
TZOFFSETTO:-0400
TZNAME:EDT
DTSTART:20240310T070000
END:DAYLIGHT
BEGIN:STANDARD
TZOFFSETFROM:-0400
TZOFFSETTO:-0500
TZNAME:EST
DTSTART:20241103T060000
END:STANDARD
BEGIN:DAYLIGHT
TZOFFSETFROM:-0500
TZOFFSETTO:-0400
TZNAME:EDT
DTSTART:20250309T070000
END:DAYLIGHT
BEGIN:STANDARD
TZOFFSETFROM:-0400
TZOFFSETTO:-0500
TZNAME:EST
DTSTART:20251102T060000
END:STANDARD
BEGIN:DAYLIGHT
TZOFFSETFROM:-0500
TZOFFSETTO:-0400
TZNAME:EDT
DTSTART:20260308T070000
END:DAYLIGHT
BEGIN:STANDARD
TZOFFSETFROM:-0400
TZOFFSETTO:-0500
TZNAME:EST
DTSTART:20261101T060000
END:STANDARD
END:VTIMEZONE
BEGIN:VEVENT
DTSTART;TZID=America/Toronto:20251129T183000
DTEND;TZID=America/Toronto:20251129T230000
DTSTAMP:20260421T055938
CREATED:20241001T225256Z
LAST-MODIFIED:20251010T145833Z
UID:1374-1764441000-1764457200@stgeorges15.com
SUMMARY:District Deputy's Dinner for Charity - Featuring Rick Vaive in support of Feed Niagara
DESCRIPTION:Join the DDGM for dinner with former Toronto Maple Leaf Captain\, Rick Vaive in support of Feed Niagara. \nNiagara A District is proud to welcome a true Canadian hockey legend — Rick Vaive. \nBorn in Ottawa and raised in Prince Edward Island\, Rick made his mark early in the game\, and in 1981 became the first player in Toronto Maple Leafs history to score 50 goals in a season — a record that stood for four decades. \nOver a remarkable career spanning from the WHA to the NHL\, Rick played for the Vancouver Canucks\, Toronto Maple Leafs\, Chicago Blackhawks\, and Buffalo Sabres\, earning respect for his leadership\, drive\, and scoring touch. After retiring\, he went on to coach professionally and share his insights on Leafs TV. \nRick is a proud member of the PEI Sports Hall of Fame\, and tonight we’re thrilled to have him with us .
URL:https://stgeorges15.com/calendar/ddd4c/
LOCATION:Johnny Rocco’s Italian Grill\, 271 Merritt Street\, St. Catharines\, Ontario\, Canada
CATEGORIES:District Events
ATTACH;FMTTYPE=image/png:https://stgeorges15.com/wp-content/uploads/2024/10/District-Deputys-Dinner-For-Charity.png
END:VEVENT
END:VCALENDAR