BEGIN:VCALENDAR
VERSION:2.0
PRODID:-//St. George&#039;s Lodge no. 15 - ECPv6.15.20//NONSGML v1.0//EN
CALSCALE:GREGORIAN
METHOD:PUBLISH
X-ORIGINAL-URL:https://stgeorges15.com
X-WR-CALDESC:Events for St. George&#039;s Lodge no. 15
REFRESH-INTERVAL;VALUE=DURATION:PT1H
X-Robots-Tag:noindex
X-PUBLISHED-TTL:PT1H
BEGIN:VTIMEZONE
TZID:America/Toronto
BEGIN:DAYLIGHT
TZOFFSETFROM:-0500
TZOFFSETTO:-0400
TZNAME:EDT
DTSTART:20240310T070000
END:DAYLIGHT
BEGIN:STANDARD
TZOFFSETFROM:-0400
TZOFFSETTO:-0500
TZNAME:EST
DTSTART:20241103T060000
END:STANDARD
BEGIN:DAYLIGHT
TZOFFSETFROM:-0500
TZOFFSETTO:-0400
TZNAME:EDT
DTSTART:20250309T070000
END:DAYLIGHT
BEGIN:STANDARD
TZOFFSETFROM:-0400
TZOFFSETTO:-0500
TZNAME:EST
DTSTART:20251102T060000
END:STANDARD
BEGIN:DAYLIGHT
TZOFFSETFROM:-0500
TZOFFSETTO:-0400
TZNAME:EDT
DTSTART:20260308T070000
END:DAYLIGHT
BEGIN:STANDARD
TZOFFSETFROM:-0400
TZOFFSETTO:-0500
TZNAME:EST
DTSTART:20261101T060000
END:STANDARD
END:VTIMEZONE
BEGIN:VEVENT
DTSTART;TZID=America/Toronto:20250921T140000
DTEND;TZID=America/Toronto:20250921T190000
DTSTAMP:20260422T083249
CREATED:20250503T003059Z
LAST-MODIFIED:20250901T141958Z
UID:1864-1758463200-1758481200@stgeorges15.com
SUMMARY:**CANCELLED** Niagara District Masons 3rd Annual Pig Roast
DESCRIPTION:Niagara District Masons \n3rd Annual Pig Roast \nSunday\, September 21st\, 2025 \n2-7pm \n3210 Staff Avenue \nJordan\, Ontario \nOpen to Masons\, Spouses and Guests (Adults only please) \nPresented by: Niagara Lodge No. 2\, Sue Ann Staff Winery \nFood by: Zooma Caters \nEntertainment by: Claralux \n 
URL:https://stgeorges15.com/calendar/niagara-district-masons-3rd-annual-pig-roast/
LOCATION:3210 Staff Avenue\, 3210 Staff Avenue\, Jordan\, Ontario\, Canada
CATEGORIES:District Events
ATTACH;FMTTYPE=image/png:https://stgeorges15.com/wp-content/uploads/2025/05/CANCELLED_Pig-Roast-Invitation.png
END:VEVENT
END:VCALENDAR