BEGIN:VCALENDAR
VERSION:2.0
PRODID:-//St. George&#039;s Lodge no. 15 - ECPv6.15.20//NONSGML v1.0//EN
CALSCALE:GREGORIAN
METHOD:PUBLISH
X-ORIGINAL-URL:https://stgeorges15.com
X-WR-CALDESC:Events for St. George&#039;s Lodge no. 15
REFRESH-INTERVAL;VALUE=DURATION:PT1H
X-Robots-Tag:noindex
X-PUBLISHED-TTL:PT1H
BEGIN:VTIMEZONE
TZID:America/Toronto
BEGIN:DAYLIGHT
TZOFFSETFROM:-0500
TZOFFSETTO:-0400
TZNAME:EDT
DTSTART:20240310T070000
END:DAYLIGHT
BEGIN:STANDARD
TZOFFSETFROM:-0400
TZOFFSETTO:-0500
TZNAME:EST
DTSTART:20241103T060000
END:STANDARD
BEGIN:DAYLIGHT
TZOFFSETFROM:-0500
TZOFFSETTO:-0400
TZNAME:EDT
DTSTART:20250309T070000
END:DAYLIGHT
BEGIN:STANDARD
TZOFFSETFROM:-0400
TZOFFSETTO:-0500
TZNAME:EST
DTSTART:20251102T060000
END:STANDARD
BEGIN:DAYLIGHT
TZOFFSETFROM:-0500
TZOFFSETTO:-0400
TZNAME:EDT
DTSTART:20260308T070000
END:DAYLIGHT
BEGIN:STANDARD
TZOFFSETFROM:-0400
TZOFFSETTO:-0500
TZNAME:EST
DTSTART:20261101T060000
END:STANDARD
BEGIN:DAYLIGHT
TZOFFSETFROM:-0500
TZOFFSETTO:-0400
TZNAME:EDT
DTSTART:20270314T070000
END:DAYLIGHT
BEGIN:STANDARD
TZOFFSETFROM:-0400
TZOFFSETTO:-0500
TZNAME:EST
DTSTART:20271107T060000
END:STANDARD
END:VTIMEZONE
BEGIN:VEVENT
DTSTART;TZID=America/Toronto:20251129T183000
DTEND;TZID=America/Toronto:20251129T230000
DTSTAMP:20260421T214825
CREATED:20241001T225256Z
LAST-MODIFIED:20251010T145833Z
UID:1374-1764441000-1764457200@stgeorges15.com
SUMMARY:District Deputy's Dinner for Charity - Featuring Rick Vaive in support of Feed Niagara
DESCRIPTION:Join the DDGM for dinner with former Toronto Maple Leaf Captain\, Rick Vaive in support of Feed Niagara. \nNiagara A District is proud to welcome a true Canadian hockey legend — Rick Vaive. \nBorn in Ottawa and raised in Prince Edward Island\, Rick made his mark early in the game\, and in 1981 became the first player in Toronto Maple Leafs history to score 50 goals in a season — a record that stood for four decades. \nOver a remarkable career spanning from the WHA to the NHL\, Rick played for the Vancouver Canucks\, Toronto Maple Leafs\, Chicago Blackhawks\, and Buffalo Sabres\, earning respect for his leadership\, drive\, and scoring touch. After retiring\, he went on to coach professionally and share his insights on Leafs TV. \nRick is a proud member of the PEI Sports Hall of Fame\, and tonight we’re thrilled to have him with us .
URL:https://stgeorges15.com/calendar/ddd4c/
LOCATION:Johnny Rocco’s Italian Grill\, 271 Merritt Street\, St. Catharines\, Ontario\, Canada
CATEGORIES:District Events
ATTACH;FMTTYPE=image/png:https://stgeorges15.com/wp-content/uploads/2024/10/District-Deputys-Dinner-For-Charity.png
END:VEVENT
BEGIN:VEVENT
DTSTART;TZID=America/Toronto:20251227T190000
DTEND;TZID=America/Toronto:20251227T213000
DTSTAMP:20260421T214825
CREATED:20241016T194549Z
LAST-MODIFIED:20260112T152211Z
UID:1661-1766862000-1766871000@stgeorges15.com
SUMMARY:Installation - Niagara No. 2
DESCRIPTION:
URL:https://stgeorges15.com/calendar/installation-niagara-no-2/
LOCATION:Niagara Lodge no. 2\, 153 King Street\, Niagara-on-the-Lake\, Ontario\, Canada
CATEGORIES:District Events
ATTACH;FMTTYPE=image/jpeg:https://stgeorges15.com/wp-content/uploads/2024/10/Niagara-no.-2-Crest-B.jpg
END:VEVENT
BEGIN:VEVENT
DTSTART;TZID=America/Toronto:20260106T190000
DTEND;TZID=America/Toronto:20260106T213000
DTSTAMP:20260421T214825
CREATED:20241016T194634Z
LAST-MODIFIED:20260112T152148Z
UID:1662-1767726000-1767735000@stgeorges15.com
SUMMARY:Installation - Ivy Lodge
DESCRIPTION:
URL:https://stgeorges15.com/calendar/installation-ivy-lodge/
LOCATION:Ivy Lodge\, 4276 Mountain Street\, Beamsville\, Ontario\, Canada
CATEGORIES:District Events
ATTACH;FMTTYPE=image/jpeg:https://stgeorges15.com/wp-content/uploads/2024/10/Ivy-Lodge-no.-115-Crest.jpg
END:VEVENT
BEGIN:VEVENT
DTSTART;TZID=America/Toronto:20260123T190000
DTEND;TZID=America/Toronto:20260123T213000
DTSTAMP:20260421T214825
CREATED:20241016T194717Z
LAST-MODIFIED:20260112T152127Z
UID:1663-1769194800-1769203800@stgeorges15.com
SUMMARY:Installation and Robbie Burns Night - Reunion Lodge
DESCRIPTION:
URL:https://stgeorges15.com/calendar/installation-reunion-lodge/
LOCATION:Masonic Memorial Temple\, 23 Centre Street\, St. Catharines\, Ontario\, Canada
CATEGORIES:District Events
ATTACH;FMTTYPE=image/png:https://stgeorges15.com/wp-content/uploads/2024/10/Reunion-Lodge-no.-103-Crest--scaled.png
END:VEVENT
BEGIN:VEVENT
DTSTART;TZID=America/Toronto:20260124T100000
DTEND;TZID=America/Toronto:20260124T120000
DTSTAMP:20260421T214825
CREATED:20250820T152357Z
LAST-MODIFIED:20260113T172708Z
UID:2039-1769248800-1769256000@stgeorges15.com
SUMMARY:District Meeting - January
DESCRIPTION:
URL:https://stgeorges15.com/calendar/district-meeting-january/
LOCATION:Masonic Memorial Temple\, 23 Centre Street\, St. Catharines\, Ontario\, Canada
CATEGORIES:District Events
ATTACH;FMTTYPE=image/png:https://stgeorges15.com/wp-content/uploads/2025/08/DistrictA_Logo2.png
END:VEVENT
BEGIN:VEVENT
DTSTART;TZID=America/Toronto:20260211T193000
DTEND;TZID=America/Toronto:20260211T213000
DTSTAMP:20260421T214825
CREATED:20241016T193018Z
LAST-MODIFIED:20260209T145350Z
UID:1653-1770838200-1770845400@stgeorges15.com
SUMMARY:Official Visit - Seymour Lodge
DESCRIPTION:
URL:https://stgeorges15.com/calendar/official-visit-seymour-lodge/
LOCATION:Seymour Lodge\, 15 Main Street\, St. Catharines\, Ontario\, Canada
CATEGORIES:District Events
ATTACH;FMTTYPE=image/png:https://stgeorges15.com/wp-content/uploads/2025/08/DistrictA_Logo2-2.png
END:VEVENT
BEGIN:VEVENT
DTSTART;TZID=America/Toronto:20260221T083000
DTEND;TZID=America/Toronto:20260221T120000
DTSTAMP:20260421T214825
CREATED:20250820T144416Z
LAST-MODIFIED:20260114T155942Z
UID:2028-1771662600-1771675200@stgeorges15.com
SUMMARY:Lodge of Instruction - Niagara District A
DESCRIPTION:Niagara A District is happy to announce this years’ Lodge of Instruction hosted by Ivy Lodge #115 in Beamsville. \nThis is event is open to all Master Masons. \nRegistration for the event is from 8:30-8:55am with the event beginning at 9am.
URL:https://stgeorges15.com/calendar/lodge-of-instruction-niagara-district-a/
LOCATION:Ivy Lodge\, 4276 Mountain Street\, Beamsville\, Ontario\, Canada
CATEGORIES:District Events,Lodge Events
ATTACH;FMTTYPE=image/png:https://stgeorges15.com/wp-content/uploads/2025/08/DistrictA_Logo2.png
END:VEVENT
BEGIN:VEVENT
DTSTART;TZID=America/Toronto:20260224T193000
DTEND;TZID=America/Toronto:20260224T213000
DTSTAMP:20260421T214825
CREATED:20241016T195337Z
LAST-MODIFIED:20260209T150241Z
UID:1668-1771961400-1771968600@stgeorges15.com
SUMMARY:St. George's Lodge - Festive Board
DESCRIPTION:
URL:https://stgeorges15.com/calendar/st-georges-lodge-festive-board/
LOCATION:Masonic Memorial Temple\, 23 Centre Street\, St. Catharines\, Ontario\, Canada
CATEGORIES:District Events,Lodge Events
ATTACH;FMTTYPE=image/png:https://stgeorges15.com/wp-content/uploads/2024/10/Festive-Board-Poster-2026-page-0-scaled.png
END:VEVENT
BEGIN:VEVENT
DTSTART;TZID=America/Toronto:20260304T193000
DTEND;TZID=America/Toronto:20260304T213000
DTSTAMP:20260421T214825
CREATED:20241016T193955Z
LAST-MODIFIED:20260112T145747Z
UID:1659-1772652600-1772659800@stgeorges15.com
SUMMARY:Official Visit - Niagara No. 2
DESCRIPTION:
URL:https://stgeorges15.com/calendar/official-visit-niagara-no-2/
LOCATION:Niagara Lodge no. 2\, 153 King Street\, Niagara-on-the-Lake\, Ontario\, Canada
CATEGORIES:District Events
ATTACH;FMTTYPE=image/png:https://stgeorges15.com/wp-content/uploads/2025/08/DistrictA_Logo2-2.png
END:VEVENT
BEGIN:VEVENT
DTSTART;TZID=America/Toronto:20260311T193000
DTEND;TZID=America/Toronto:20260311T213000
DTSTAMP:20260421T214825
CREATED:20250820T152229Z
LAST-MODIFIED:20260112T154024Z
UID:2037-1773257400-1773264600@stgeorges15.com
SUMMARY:Inter-District Visit - Niagara B to A Visit - Amity Lodge No. 32
DESCRIPTION:
URL:https://stgeorges15.com/calendar/niagara-b-to-a-visit-amity-lodge-no-32/
LOCATION:Amity Lodge\, 661 Lock Street West\, Dunnville\, Ontario\, Canada
CATEGORIES:District Events
ATTACH;FMTTYPE=image/png:https://stgeorges15.com/wp-content/uploads/2025/08/DistrictA_Logo2-2.png
END:VEVENT
BEGIN:VEVENT
DTSTART;TZID=America/Toronto:20260318T193000
DTEND;TZID=America/Toronto:20260318T213000
DTSTAMP:20260421T214825
CREATED:20241016T193244Z
LAST-MODIFIED:20260112T145855Z
UID:1655-1773862200-1773869400@stgeorges15.com
SUMMARY:Official Visit - Reunion Lodge
DESCRIPTION:
URL:https://stgeorges15.com/calendar/official-visit-reunion-lodge/
LOCATION:Masonic Memorial Temple\, 23 Centre Street\, St. Catharines\, Ontario\, Canada
CATEGORIES:District Events
ATTACH;FMTTYPE=image/png:https://stgeorges15.com/wp-content/uploads/2025/08/DistrictA_Logo2-2.png
END:VEVENT
BEGIN:VEVENT
DTSTART;TZID=America/Toronto:20260322T150000
DTEND;TZID=America/Toronto:20260322T170000
DTSTAMP:20260421T214825
CREATED:20241016T195726Z
LAST-MODIFIED:20260112T155019Z
UID:1672-1774191600-1774198800@stgeorges15.com
SUMMARY:Sankey Lecture
DESCRIPTION:“Scenes from a Biography of James Anderson: Religion and Politics in Early Eighteenth-Century English Freemasonry” \nLecturer: Susan Mitchell Sommers – Professor of History Emerita – St. Vincent College Latrobe\, PA \nSunday March 22\, 2026 at 3pm \nSean O’Sullivan Theatre – Brock University. \nHigh Resolution Version of Poster \n  \n 
URL:https://stgeorges15.com/calendar/sankey-lecture/
LOCATION:Sean O’Sullivan Theatre – Brock University\, 1812 Sir Isaac Brock Way\, St. Catharines\, Ontario\, L2S 3A1\, Canada
CATEGORIES:District Events
ATTACH;FMTTYPE=image/png:https://stgeorges15.com/wp-content/uploads/2024/10/Ontario-Masons.png
END:VEVENT
BEGIN:VEVENT
DTSTART;TZID=America/Toronto:20260328T180000
DTEND;TZID=America/Toronto:20260328T190000
DTSTAMP:20260421T214825
CREATED:20260113T173504Z
LAST-MODIFIED:20260209T145549Z
UID:2106-1774720800-1774724400@stgeorges15.com
SUMMARY:Family Skate
DESCRIPTION:
URL:https://stgeorges15.com/calendar/family-skate/
LOCATION:Ridley College – H.C. Griffith Sports Complex\, 2 Ridley Road\, St. Catharines\, Ontario\, L2R 7C3\, Canada
CATEGORIES:District Events,Lodge Events
ATTACH;FMTTYPE=image/png:https://stgeorges15.com/wp-content/uploads/2026/01/Family-Skate-2026.png
END:VEVENT
BEGIN:VEVENT
DTSTART;TZID=America/Toronto:20260407T193000
DTEND;TZID=America/Toronto:20260407T213000
DTSTAMP:20260421T214825
CREATED:20241016T193652Z
LAST-MODIFIED:20260112T145827Z
UID:1656-1775590200-1775597400@stgeorges15.com
SUMMARY:Official Visit - Ivy Lodge
DESCRIPTION:
URL:https://stgeorges15.com/calendar/official-visit-ivy-lodge/
LOCATION:Ivy Lodge\, 4276 Mountain Street\, Beamsville\, Ontario\, Canada
CATEGORIES:District Events
ATTACH;FMTTYPE=image/png:https://stgeorges15.com/wp-content/uploads/2025/08/DistrictA_Logo2-2.png
END:VEVENT
BEGIN:VEVENT
DTSTART;TZID=America/Toronto:20260411T100000
DTEND;TZID=America/Toronto:20260411T120000
DTSTAMP:20260421T214825
CREATED:20241016T193813Z
LAST-MODIFIED:20260112T145807Z
UID:1658-1775901600-1775908800@stgeorges15.com
SUMMARY:Official Visit - Brock Daylight Lodge
DESCRIPTION:
URL:https://stgeorges15.com/calendar/official-visit-brock-daylight-lodge/
LOCATION:Masonic Memorial Temple\, 23 Centre Street\, St. Catharines\, Ontario\, Canada
CATEGORIES:District Events
ATTACH;FMTTYPE=image/png:https://stgeorges15.com/wp-content/uploads/2025/08/DistrictA_Logo2-2.png
END:VEVENT
BEGIN:VEVENT
DTSTART;TZID=America/Toronto:20260412T150000
DTEND;TZID=America/Toronto:20260412T160000
DTSTAMP:20260421T214825
CREATED:20250820T150909Z
LAST-MODIFIED:20250821T142519Z
UID:2034-1776006000-1776009600@stgeorges15.com
SUMMARY:Niagara A and B Districts Joint Divine Service
DESCRIPTION:
URL:https://stgeorges15.com/calendar/niagara-a-and-b-districts-joint-divine-service/
LOCATION:St. David’s Anglican Church\, 369 Thorold Road\, Welland\, Ontario\, Canada
CATEGORIES:District Events
ATTACH;FMTTYPE=image/png:https://stgeorges15.com/wp-content/uploads/2025/08/DistrictA_Logo2.png
END:VEVENT
BEGIN:VEVENT
DTSTART;TZID=America/Toronto:20260418T190000
DTEND;TZID=America/Toronto:20260418T220000
DTSTAMP:20260421T214825
CREATED:20241016T195640Z
LAST-MODIFIED:20260112T154203Z
UID:1671-1776538800-1776549600@stgeorges15.com
SUMMARY:St. George's Lodge Chili and Trivia Night
DESCRIPTION:
URL:https://stgeorges15.com/calendar/st-georges-lodge-chilli-and-trivia-night/
CATEGORIES:District Events,Lodge Events
ATTACH;FMTTYPE=image/png:https://stgeorges15.com/wp-content/uploads/2024/10/Copy-of-Chili-Cook-Off-Event-Flyer-1.png
END:VEVENT
BEGIN:VEVENT
DTSTART;VALUE=DATE:20260423
DTEND;VALUE=DATE:20260427
DTSTAMP:20260421T214825
CREATED:20250820T145148Z
LAST-MODIFIED:20250820T145148Z
UID:2032-1776902400-1777247999@stgeorges15.com
SUMMARY:Masonic Quebec Trip
DESCRIPTION:
URL:https://stgeorges15.com/calendar/masonic-quebec-trip/
CATEGORIES:District Events
END:VEVENT
BEGIN:VEVENT
DTSTART;VALUE=DATE:20260509
DTEND;VALUE=DATE:20260510
DTSTAMP:20260421T214825
CREATED:20250820T145231Z
LAST-MODIFIED:20260114T160246Z
UID:2033-1778284800-1778371199@stgeorges15.com
SUMMARY:Ladies Appreciation Event - St. George's Lodge
DESCRIPTION:
URL:https://stgeorges15.com/calendar/ladies-appreciation-night-st-georges-lodge/
CATEGORIES:District Events,Lodge Events
ATTACH;FMTTYPE=image/png:https://stgeorges15.com/wp-content/uploads/2025/05/FINAL-Hat-logo-St.-Georges-15-v5-2-no-red-background-2.png
END:VEVENT
BEGIN:VEVENT
DTSTART;TZID=America/Toronto:20260511T190000
DTEND;TZID=America/Toronto:20260511T213000
DTSTAMP:20260421T214825
CREATED:20241016T194816Z
LAST-MODIFIED:20260112T152102Z
UID:1664-1778526000-1778535000@stgeorges15.com
SUMMARY:Installation - Garden City Lodge
DESCRIPTION:
URL:https://stgeorges15.com/calendar/installation-garden-city-lodge/
LOCATION:Masonic Memorial Temple\, 23 Centre Street\, St. Catharines\, Ontario\, Canada
CATEGORIES:District Events
ATTACH;FMTTYPE=image/png:https://stgeorges15.com/wp-content/uploads/2024/10/Garden-City-no.-221-Crests.png
END:VEVENT
BEGIN:VEVENT
DTSTART;TZID=America/Toronto:20260513T190000
DTEND;TZID=America/Toronto:20260513T213000
DTSTAMP:20260421T214825
CREATED:20241016T194859Z
LAST-MODIFIED:20260112T152041Z
UID:1665-1778698800-1778707800@stgeorges15.com
SUMMARY:Installation - Amity Lodge
DESCRIPTION:
URL:https://stgeorges15.com/calendar/installation-amity-lodge/
LOCATION:Amity Lodge\, 661 Lock Street West\, Dunnville\, Ontario\, Canada
CATEGORIES:District Events
ATTACH;FMTTYPE=image/png:https://stgeorges15.com/wp-content/uploads/2024/10/Screenshot-2025-09-03-at-6.59.42-PM.png
END:VEVENT
BEGIN:VEVENT
DTSTART;VALUE=DATE:20260523
DTEND;VALUE=DATE:20260524
DTSTAMP:20260421T214825
CREATED:20241016T195757Z
LAST-MODIFIED:20250820T145353Z
UID:1673-1779494400-1779580799@stgeorges15.com
SUMMARY:District Golf Tournament
DESCRIPTION:
URL:https://stgeorges15.com/calendar/district-golf-tournament/
CATEGORIES:District Events
ATTACH;FMTTYPE=image/png:https://stgeorges15.com/wp-content/uploads/2024/10/Screenshot-2025-04-26-at-12.55.06 PM.png
END:VEVENT
BEGIN:VEVENT
DTSTART;TZID=America/Toronto:20260602T193000
DTEND;TZID=America/Toronto:20260602T213000
DTSTAMP:20260421T214825
CREATED:20250820T152131Z
LAST-MODIFIED:20250820T152131Z
UID:2036-1780428600-1780435800@stgeorges15.com
SUMMARY:DDGM Homecoming - Ivy Lodge No. 115
DESCRIPTION:
URL:https://stgeorges15.com/calendar/ddgm-homecoming-ivy-lodge-no-115/
LOCATION:Ivy Lodge\, 4276 Mountain Street\, Beamsville\, Ontario\, Canada
CATEGORIES:District Events
END:VEVENT
BEGIN:VEVENT
DTSTART;TZID=America/Toronto:20260616T190000
DTEND;TZID=America/Toronto:20260616T213000
DTSTAMP:20260421T214825
CREATED:20241016T195000Z
LAST-MODIFIED:20260112T151952Z
UID:1666-1781636400-1781645400@stgeorges15.com
SUMMARY:Installation - Dufferin Lodge
DESCRIPTION:
URL:https://stgeorges15.com/calendar/installation-dufferin-lodge/
LOCATION:Dufferin Lodge\, 5167 Canborough Road\, Wellandport\, Ontario\, Canada
CATEGORIES:District Events
ATTACH;FMTTYPE=image/gif:https://stgeorges15.com/wp-content/uploads/2024/10/Dufferin-no.-338-Crest.gif
END:VEVENT
BEGIN:VEVENT
DTSTART;TZID=America/Toronto:20260630T190000
DTEND;TZID=America/Toronto:20260630T210000
DTSTAMP:20260421T214825
CREATED:20250820T152450Z
LAST-MODIFIED:20260113T172638Z
UID:2040-1782846000-1782853200@stgeorges15.com
SUMMARY:District Meeting - June
DESCRIPTION:
URL:https://stgeorges15.com/calendar/district-meeting-june/
LOCATION:Masonic Memorial Temple\, 23 Centre Street\, St. Catharines\, Ontario\, Canada
CATEGORIES:District Events
ATTACH;FMTTYPE=image/png:https://stgeorges15.com/wp-content/uploads/2025/08/DistrictA_Logo2.png
END:VEVENT
BEGIN:VEVENT
DTSTART;VALUE=DATE:20260715
DTEND;VALUE=DATE:20260717
DTSTAMP:20260421T214825
CREATED:20241016T195202Z
LAST-MODIFIED:20250820T144455Z
UID:1667-1784073600-1784246399@stgeorges15.com
SUMMARY:Grand Lodge Communication - 2026
DESCRIPTION:
URL:https://stgeorges15.com/calendar/grand-lodge-communication-2025/
CATEGORIES:District Events
ATTACH;FMTTYPE=image/png:https://stgeorges15.com/wp-content/uploads/2024/10/Ontario-Masons.png
END:VEVENT
END:VCALENDAR