BEGIN:VCALENDAR
VERSION:2.0
PRODID:-//St. George&#039;s Lodge no. 15 - ECPv6.15.20//NONSGML v1.0//EN
CALSCALE:GREGORIAN
METHOD:PUBLISH
X-WR-CALNAME:St. George&#039;s Lodge no. 15
X-ORIGINAL-URL:https://stgeorges15.com
X-WR-CALDESC:Events for St. George&#039;s Lodge no. 15
REFRESH-INTERVAL;VALUE=DURATION:PT1H
X-Robots-Tag:noindex
X-PUBLISHED-TTL:PT1H
BEGIN:VTIMEZONE
TZID:America/Toronto
BEGIN:DAYLIGHT
TZOFFSETFROM:-0500
TZOFFSETTO:-0400
TZNAME:EDT
DTSTART:20240310T070000
END:DAYLIGHT
BEGIN:STANDARD
TZOFFSETFROM:-0400
TZOFFSETTO:-0500
TZNAME:EST
DTSTART:20241103T060000
END:STANDARD
BEGIN:DAYLIGHT
TZOFFSETFROM:-0500
TZOFFSETTO:-0400
TZNAME:EDT
DTSTART:20250309T070000
END:DAYLIGHT
BEGIN:STANDARD
TZOFFSETFROM:-0400
TZOFFSETTO:-0500
TZNAME:EST
DTSTART:20251102T060000
END:STANDARD
BEGIN:DAYLIGHT
TZOFFSETFROM:-0500
TZOFFSETTO:-0400
TZNAME:EDT
DTSTART:20260308T070000
END:DAYLIGHT
BEGIN:STANDARD
TZOFFSETFROM:-0400
TZOFFSETTO:-0500
TZNAME:EST
DTSTART:20261101T060000
END:STANDARD
END:VTIMEZONE
BEGIN:VEVENT
DTSTART;TZID=America/Toronto:20250902T183000
DTEND;TZID=America/Toronto:20250902T200000
DTSTAMP:20260422T203854
CREATED:20250901T142609Z
LAST-MODIFIED:20250901T142609Z
UID:2055-1756837800-1756843200@stgeorges15.com
SUMMARY:Rehearsal for September Meeting (First Fraternal Visit & Regalia Presentation)
DESCRIPTION:
URL:https://stgeorges15.com/calendar/rehearsal-for-september-meeting-first-fraternal-visit-regalia-presentation/
LOCATION:Masonic Memorial Temple\, 23 Centre Street\, St. Catharines\, Ontario\, Canada
CATEGORIES:Lodge Events,Lodge Meetings
END:VEVENT
BEGIN:VEVENT
DTSTART;TZID=America/Toronto:20250904T183000
DTEND;TZID=America/Toronto:20250904T200000
DTSTAMP:20260422T203854
CREATED:20250721T130134Z
LAST-MODIFIED:20250901T142253Z
UID:2019-1757010600-1757016000@stgeorges15.com
SUMMARY:**CANCELLED** Degree Work Practice
DESCRIPTION:
URL:https://stgeorges15.com/calendar/degree-work-practice-3/
LOCATION:Ivy Lodge\, 4276 Mountain Street\, Beamsville\, Ontario\, Canada
CATEGORIES:Lodge Events,Lodge Meetings
END:VEVENT
BEGIN:VEVENT
DTSTART;TZID=America/Toronto:20250910T183000
DTEND;TZID=America/Toronto:20250910T200000
DTSTAMP:20260422T203854
CREATED:20250901T142708Z
LAST-MODIFIED:20250901T142708Z
UID:2056-1757529000-1757534400@stgeorges15.com
SUMMARY:Rehearsal - First Degree
DESCRIPTION:
URL:https://stgeorges15.com/calendar/rehearsal-first-degree/
LOCATION:Masonic Memorial Temple\, 23 Centre Street\, St. Catharines\, Ontario\, Canada
CATEGORIES:Lodge Events,Lodge Meetings
END:VEVENT
BEGIN:VEVENT
DTSTART;TZID=America/Toronto:20250915T183000
DTEND;TZID=America/Toronto:20250915T200000
DTSTAMP:20260422T203854
CREATED:20250901T142758Z
LAST-MODIFIED:20250901T142758Z
UID:2057-1757961000-1757966400@stgeorges15.com
SUMMARY:Rehearsal - First Degree
DESCRIPTION:
URL:https://stgeorges15.com/calendar/rehearsal-first-degree-2/
LOCATION:Masonic Memorial Temple\, 23 Centre Street\, St. Catharines\, Ontario\, Canada
CATEGORIES:Lodge Events,Lodge Meetings
END:VEVENT
END:VCALENDAR