BEGIN:VCALENDAR
VERSION:2.0
PRODID:-//St. George&#039;s Lodge no. 15 - ECPv6.15.20//NONSGML v1.0//EN
CALSCALE:GREGORIAN
METHOD:PUBLISH
X-ORIGINAL-URL:https://stgeorges15.com
X-WR-CALDESC:Events for St. George&#039;s Lodge no. 15
REFRESH-INTERVAL;VALUE=DURATION:PT1H
X-Robots-Tag:noindex
X-PUBLISHED-TTL:PT1H
BEGIN:VTIMEZONE
TZID:America/Toronto
BEGIN:DAYLIGHT
TZOFFSETFROM:-0500
TZOFFSETTO:-0400
TZNAME:EDT
DTSTART:20230312T070000
END:DAYLIGHT
BEGIN:STANDARD
TZOFFSETFROM:-0400
TZOFFSETTO:-0500
TZNAME:EST
DTSTART:20231105T060000
END:STANDARD
BEGIN:DAYLIGHT
TZOFFSETFROM:-0500
TZOFFSETTO:-0400
TZNAME:EDT
DTSTART:20240310T070000
END:DAYLIGHT
BEGIN:STANDARD
TZOFFSETFROM:-0400
TZOFFSETTO:-0500
TZNAME:EST
DTSTART:20241103T060000
END:STANDARD
BEGIN:DAYLIGHT
TZOFFSETFROM:-0500
TZOFFSETTO:-0400
TZNAME:EDT
DTSTART:20250309T070000
END:DAYLIGHT
BEGIN:STANDARD
TZOFFSETFROM:-0400
TZOFFSETTO:-0500
TZNAME:EST
DTSTART:20251102T060000
END:STANDARD
BEGIN:DAYLIGHT
TZOFFSETFROM:-0500
TZOFFSETTO:-0400
TZNAME:EDT
DTSTART:20260308T070000
END:DAYLIGHT
BEGIN:STANDARD
TZOFFSETFROM:-0400
TZOFFSETTO:-0500
TZNAME:EST
DTSTART:20261101T060000
END:STANDARD
END:VTIMEZONE
BEGIN:VEVENT
DTSTART;TZID=America/Toronto:20250823T123000
DTEND;TZID=America/Toronto:20250823T190000
DTSTAMP:20260420T191745
CREATED:20250427T010650Z
LAST-MODIFIED:20250801T172545Z
UID:1842-1755952200-1755975600@stgeorges15.com
SUMMARY:St. George's 2-3-2 Golf Challenge
DESCRIPTION:EVENT IS NOW SOLD OUT\nSt. George’s Lodge no. 15 is proud to host the first ever 2-3-2 Golf Challenge. This will be a fun afternoon of golf with three (3) mini golf challenges over 18 holes. We are limited to 40 total players\, so please email Mark McGaw [info@stgeorges15.com] to reserve your two-man team spot. [FREEMASONS IN GOOD STANDING ONLY]\n\n\n\n\n\n\nSaturday August 23\, 2025\nRockway Glen Golf Course\n3290 Ninth Street\nSt. Catharines\, ON L2R 6P7\nRegistry 12:30 pm.\n$85 pp/ includes golf\, cart and all taxes.\n\nThe Queen Sheba Plate: awarded to the winning 2-man team with the best team score.\nRoyal & Ancient Milk Jug: awarded to the winning lodge with the most points.\n\nTHE GAMES\n \nHoles 1-6: 2-man Scramble\n\n\nEach player tees off\, and the team selects the better tee shot.\nBoth players then play from that spot\, continuing to choose the best shot until the hole is completed.\n\n\nHoles: 6-12: Alternate Shot\n\n\nTeams alternate hitting shots on every hole.\nOne teammate tees off\, and then the other plays their second shot\, and so on.\n\n\nHoles: 13-18: Best Ball\n\n\nEach player plays their own ball throughout the round\, but the team score for each hole is based on the best score.\n\n\n(Whites tees; 5914 yards. Players over 65 may play the reds: 5033 yards]
URL:https://stgeorges15.com/calendar/st-georges-2-3-2-golf-challenge/
LOCATION:Rockway Glen Golf Course\, 3290 Ninth Street\, St. Catharines\, Ontario\, L2R 6P7\, Canada
CATEGORIES:Lodge Events
ATTACH;FMTTYPE=image/png:https://stgeorges15.com/wp-content/uploads/2025/04/2-3-2-Golf-Sold-Out.png
END:VEVENT
BEGIN:VEVENT
DTSTART;TZID=America/Toronto:20250821T183000
DTEND;TZID=America/Toronto:20250821T200000
DTSTAMP:20260420T191745
CREATED:20250721T130101Z
LAST-MODIFIED:20250721T130101Z
UID:2018-1755801000-1755806400@stgeorges15.com
SUMMARY:Degree Work Practice
DESCRIPTION:
URL:https://stgeorges15.com/calendar/degree-work-practice/
LOCATION:Ivy Lodge\, 4276 Mountain Street\, Beamsville\, Ontario\, Canada
CATEGORIES:Lodge Events,Lodge Meetings
END:VEVENT
BEGIN:VEVENT
DTSTART;TZID=America/Toronto:20250819T190000
DTEND;TZID=America/Toronto:20250819T210000
DTSTAMP:20260420T191745
CREATED:20250706T121725Z
LAST-MODIFIED:20250706T121725Z
UID:2006-1755630000-1755637200@stgeorges15.com
SUMMARY:Pub Night: Cold Break Brewing Company
DESCRIPTION:Note: St. Paul Street Bridge is under construction. Use alternative routes as needed.
URL:https://stgeorges15.com/calendar/pub-night-cold-break-brewing-company/
LOCATION:Cold Break Brewing Company\, 193 St. Paul Street W\, St. Cathairnes\, Ontario\, L2S 2C9\, Canada
CATEGORIES:Lodge Events
ATTACH;FMTTYPE=image/jpeg:https://stgeorges15.com/wp-content/uploads/2025/07/Coldbreak.jpg
END:VEVENT
BEGIN:VEVENT
DTSTART;TZID=America/Toronto:20250812T183000
DTEND;TZID=America/Toronto:20250812T200000
DTSTAMP:20260420T191745
CREATED:20250710T182224Z
LAST-MODIFIED:20250710T182224Z
UID:2010-1755023400-1755028800@stgeorges15.com
SUMMARY:Degree Work Practice
DESCRIPTION:
URL:https://stgeorges15.com/calendar/degree-work-practice-2/
LOCATION:Ivy Lodge\, 4276 Mountain Street\, Beamsville\, Ontario\, Canada
CATEGORIES:Lodge Events,Lodge Meetings
END:VEVENT
BEGIN:VEVENT
DTSTART;TZID=America/Toronto:20250802T173000
DTEND;TZID=America/Toronto:20250802T230000
DTSTAMP:20260420T191745
CREATED:20250403T222210Z
LAST-MODIFIED:20250801T172722Z
UID:1828-1754155800-1754175600@stgeorges15.com
SUMMARY:Welland Jackfish Game
DESCRIPTION:Contact Brother Woodcock or Worshipful Brother DeHaan for tickets.
URL:https://stgeorges15.com/calendar/welland-jackfish-game/
LOCATION:Welland Stadium\, 90 Quaker Road\, Welland\, Ontario\, L2C 7G6\, Canada
CATEGORIES:Lodge Events
ATTACH;FMTTYPE=image/png:https://stgeorges15.com/wp-content/uploads/2025/06/Jackfish-Poster-Sold-Out.png
END:VEVENT
BEGIN:VEVENT
DTSTART;TZID=America/Toronto:20250722T190000
DTEND;TZID=America/Toronto:20250722T210000
DTSTAMP:20260420T191745
CREATED:20250706T121214Z
LAST-MODIFIED:20250706T121813Z
UID:2003-1753210800-1753218000@stgeorges15.com
SUMMARY:Pub Night: Lock Street Brewing Company
DESCRIPTION:
URL:https://stgeorges15.com/calendar/pub-night-lock-street-brewing-company/
LOCATION:Lock Street Brewing Company\, 15 Lock Street\, St. Catharines\, Ontario\, L2N 5B6\, Canada
CATEGORIES:Lodge Events
ATTACH;FMTTYPE=image/jpeg:https://stgeorges15.com/wp-content/uploads/2025/07/lock-street-brewing.jpeg
END:VEVENT
BEGIN:VEVENT
DTSTART;TZID=America/Toronto:20250222T193000
DTEND;TZID=America/Toronto:20250222T213000
DTSTAMP:20260420T191745
CREATED:20241006T002116Z
LAST-MODIFIED:20241008T002036Z
UID:1489-1740252600-1740259800@stgeorges15.com
SUMMARY:Partners Appreciation Night - Cirque Du Soleil
DESCRIPTION:
URL:https://stgeorges15.com/calendar/partners-appreciation-night-cirque-du-soleil/
LOCATION:Meridian Centre
CATEGORIES:Lodge Events
ATTACH;FMTTYPE=image/png:https://stgeorges15.com/wp-content/uploads/2024/10/Cirque-Du-Soleil.png
END:VEVENT
BEGIN:VEVENT
DTSTART;TZID=America/Toronto:20241023T170000
DTEND;TZID=America/Toronto:20241023T230000
DTSTAMP:20260420T191745
CREATED:20241019T204326Z
LAST-MODIFIED:20241025T162724Z
UID:1696-1729702800-1729724400@stgeorges15.com
SUMMARY:BraveHearts Gala Dinner
DESCRIPTION:
URL:https://stgeorges15.com/calendar/bravehearts-gala-dinner/
LOCATION:Ontario
CATEGORIES:Lodge Events
ATTACH;FMTTYPE=image/jpeg:https://stgeorges15.com/wp-content/uploads/2024/10/Bravehearts-Gala.jpeg
END:VEVENT
BEGIN:VEVENT
DTSTART;TZID=America/Toronto:20241022T193000
DTEND;TZID=America/Toronto:20241022T203000
DTSTAMP:20260420T191745
CREATED:20241006T000955Z
LAST-MODIFIED:20241006T003257Z
UID:1482-1729625400-1729629000@stgeorges15.com
SUMMARY:Degree Practice
DESCRIPTION:
URL:https://stgeorges15.com/calendar/degree-practice/
LOCATION:Masonic Memorial Temple\, 23 Centre Street\, St. Catharines\, Ontario\, Canada
CATEGORIES:Lodge Events
ATTACH;FMTTYPE=image/jpeg:https://stgeorges15.com/wp-content/uploads/2024/10/53818385421_6c467d8d5d_o-scaled-e1727749174110.jpg
END:VEVENT
BEGIN:VEVENT
DTSTART;TZID=America/Toronto:20241020T110000
DTEND;TZID=America/Toronto:20241020T133000
DTSTAMP:20260420T191745
CREATED:20241019T201357Z
LAST-MODIFIED:20241025T162718Z
UID:1689-1729422000-1729431000@stgeorges15.com
SUMMARY:Belt Making Workshop
DESCRIPTION:
URL:https://stgeorges15.com/calendar/belt-making-workshop/
LOCATION:Tundra Leather\, 313 King Street East\, Hamilton\, Ontario\, Canada
CATEGORIES:Lodge Events
ATTACH;FMTTYPE=image/png:https://stgeorges15.com/wp-content/uploads/2024/10/Belt-Making-Workshop.png
END:VEVENT
END:VCALENDAR