BEGIN:VCALENDAR
VERSION:2.0
PRODID:-//St. George&#039;s Lodge no. 15 - ECPv6.15.20//NONSGML v1.0//EN
CALSCALE:GREGORIAN
METHOD:PUBLISH
X-ORIGINAL-URL:https://stgeorges15.com
X-WR-CALDESC:Events for St. George&#039;s Lodge no. 15
REFRESH-INTERVAL;VALUE=DURATION:PT1H
X-Robots-Tag:noindex
X-PUBLISHED-TTL:PT1H
BEGIN:VTIMEZONE
TZID:America/Toronto
BEGIN:DAYLIGHT
TZOFFSETFROM:-0500
TZOFFSETTO:-0400
TZNAME:EDT
DTSTART:20240310T070000
END:DAYLIGHT
BEGIN:STANDARD
TZOFFSETFROM:-0400
TZOFFSETTO:-0500
TZNAME:EST
DTSTART:20241103T060000
END:STANDARD
BEGIN:DAYLIGHT
TZOFFSETFROM:-0500
TZOFFSETTO:-0400
TZNAME:EDT
DTSTART:20250309T070000
END:DAYLIGHT
BEGIN:STANDARD
TZOFFSETFROM:-0400
TZOFFSETTO:-0500
TZNAME:EST
DTSTART:20251102T060000
END:STANDARD
BEGIN:DAYLIGHT
TZOFFSETFROM:-0500
TZOFFSETTO:-0400
TZNAME:EDT
DTSTART:20260308T070000
END:DAYLIGHT
BEGIN:STANDARD
TZOFFSETFROM:-0400
TZOFFSETTO:-0500
TZNAME:EST
DTSTART:20261101T060000
END:STANDARD
BEGIN:DAYLIGHT
TZOFFSETFROM:-0500
TZOFFSETTO:-0400
TZNAME:EDT
DTSTART:20270314T070000
END:DAYLIGHT
BEGIN:STANDARD
TZOFFSETFROM:-0400
TZOFFSETTO:-0500
TZNAME:EST
DTSTART:20271107T060000
END:STANDARD
END:VTIMEZONE
BEGIN:VEVENT
DTSTART;TZID=America/Toronto:20250410T194500
DTEND;TZID=America/Toronto:20250410T210000
DTSTAMP:20260424T053523
CREATED:20250402T202748Z
LAST-MODIFIED:20250402T202748Z
UID:1825-1744314300-1744318800@stgeorges15.com
SUMMARY:Meeting with Niagara Community Foundation
DESCRIPTION:
URL:https://stgeorges15.com/calendar/meeting-with-niagara-community-foundation/
LOCATION:St. Catharines Kiwanis Aquatic Centre\, 425 Carlton Street\, St. Catharines\, Ontario\, L2M 4W8\, Canada
CATEGORIES:Lodge Meetings
ATTACH;FMTTYPE=image/jpeg:https://stgeorges15.com/wp-content/uploads/2025/04/Lodge-Meeting-Notice.jpg
END:VEVENT
BEGIN:VEVENT
DTSTART;TZID=America/Toronto:20250601T090000
DTEND;TZID=America/Toronto:20250601T110000
DTSTAMP:20260424T053523
CREATED:20250531T125559Z
LAST-MODIFIED:20250531T130625Z
UID:1960-1748768400-1748775600@stgeorges15.com
SUMMARY:June - General Purposes Meeting
DESCRIPTION:Agenda\nOld Business:\nShirts\, Ties and Ball Cap\nUpdate on 5 Year Budget\nSinging of National Anthem\nGoogle Calendar \nNew Business\nFinances\nYearly Donation: DDGM Fund\, MS Canada\, Rankin Ride\nGrand Lodge Hotel Accomodations\nSummer BBQ\nNiagara Community Foundation Donation\nMMTA Elevator Project (Q&A)\nNew Business
URL:https://stgeorges15.com/calendar/june-general-purposes-meeting/
LOCATION:Masonic Memorial Temple\, 23 Centre Street\, St. Catharines\, Ontario\, Canada
CATEGORIES:Lodge Meetings
END:VEVENT
BEGIN:VEVENT
DTSTART;TZID=America/Toronto:20250812T183000
DTEND;TZID=America/Toronto:20250812T200000
DTSTAMP:20260424T053523
CREATED:20250710T182224Z
LAST-MODIFIED:20250710T182224Z
UID:2010-1755023400-1755028800@stgeorges15.com
SUMMARY:Degree Work Practice
DESCRIPTION:
URL:https://stgeorges15.com/calendar/degree-work-practice-2/
LOCATION:Ivy Lodge\, 4276 Mountain Street\, Beamsville\, Ontario\, Canada
CATEGORIES:Lodge Events,Lodge Meetings
END:VEVENT
BEGIN:VEVENT
DTSTART;TZID=America/Toronto:20250821T183000
DTEND;TZID=America/Toronto:20250821T200000
DTSTAMP:20260424T053523
CREATED:20250721T130101Z
LAST-MODIFIED:20250721T130101Z
UID:2018-1755801000-1755806400@stgeorges15.com
SUMMARY:Degree Work Practice
DESCRIPTION:
URL:https://stgeorges15.com/calendar/degree-work-practice/
LOCATION:Ivy Lodge\, 4276 Mountain Street\, Beamsville\, Ontario\, Canada
CATEGORIES:Lodge Events,Lodge Meetings
END:VEVENT
BEGIN:VEVENT
DTSTART;TZID=America/Toronto:20250902T183000
DTEND;TZID=America/Toronto:20250902T200000
DTSTAMP:20260424T053523
CREATED:20250901T142609Z
LAST-MODIFIED:20250901T142609Z
UID:2055-1756837800-1756843200@stgeorges15.com
SUMMARY:Rehearsal for September Meeting (First Fraternal Visit & Regalia Presentation)
DESCRIPTION:
URL:https://stgeorges15.com/calendar/rehearsal-for-september-meeting-first-fraternal-visit-regalia-presentation/
LOCATION:Masonic Memorial Temple\, 23 Centre Street\, St. Catharines\, Ontario\, Canada
CATEGORIES:Lodge Events,Lodge Meetings
END:VEVENT
BEGIN:VEVENT
DTSTART;TZID=America/Toronto:20250904T183000
DTEND;TZID=America/Toronto:20250904T200000
DTSTAMP:20260424T053523
CREATED:20250721T130134Z
LAST-MODIFIED:20250901T142253Z
UID:2019-1757010600-1757016000@stgeorges15.com
SUMMARY:**CANCELLED** Degree Work Practice
DESCRIPTION:
URL:https://stgeorges15.com/calendar/degree-work-practice-3/
LOCATION:Ivy Lodge\, 4276 Mountain Street\, Beamsville\, Ontario\, Canada
CATEGORIES:Lodge Events,Lodge Meetings
END:VEVENT
BEGIN:VEVENT
DTSTART;TZID=America/Toronto:20250909T193000
DTEND;TZID=America/Toronto:20250909T210000
DTSTAMP:20260424T053523
CREATED:20250820T155434Z
LAST-MODIFIED:20260113T164803Z
UID:2042-1757446200-1757451600@stgeorges15.com
SUMMARY:September Regular Meeting
DESCRIPTION:
URL:https://stgeorges15.com/calendar/regular-meeting-september/
LOCATION:Ontario
CATEGORIES:Lodge Meetings
ATTACH;FMTTYPE=image/png:https://stgeorges15.com/wp-content/uploads/2025/05/FINAL-Hat-logo-St.-Georges-15-v5-2-no-red-background-2.png
END:VEVENT
BEGIN:VEVENT
DTSTART;TZID=America/Toronto:20250910T183000
DTEND;TZID=America/Toronto:20250910T200000
DTSTAMP:20260424T053523
CREATED:20250901T142708Z
LAST-MODIFIED:20250901T142708Z
UID:2056-1757529000-1757534400@stgeorges15.com
SUMMARY:Rehearsal - First Degree
DESCRIPTION:
URL:https://stgeorges15.com/calendar/rehearsal-first-degree/
LOCATION:Masonic Memorial Temple\, 23 Centre Street\, St. Catharines\, Ontario\, Canada
CATEGORIES:Lodge Events,Lodge Meetings
END:VEVENT
BEGIN:VEVENT
DTSTART;TZID=America/Toronto:20250915T183000
DTEND;TZID=America/Toronto:20250915T200000
DTSTAMP:20260424T053523
CREATED:20250901T142758Z
LAST-MODIFIED:20250901T142758Z
UID:2057-1757961000-1757966400@stgeorges15.com
SUMMARY:Rehearsal - First Degree
DESCRIPTION:
URL:https://stgeorges15.com/calendar/rehearsal-first-degree-2/
LOCATION:Masonic Memorial Temple\, 23 Centre Street\, St. Catharines\, Ontario\, Canada
CATEGORIES:Lodge Events,Lodge Meetings
END:VEVENT
BEGIN:VEVENT
DTSTART;TZID=America/Toronto:20250923T193000
DTEND;TZID=America/Toronto:20250923T210000
DTSTAMP:20260424T053523
CREATED:20250915T191414Z
LAST-MODIFIED:20250915T194844Z
UID:2064-1758655800-1758661200@stgeorges15.com
SUMMARY:September Emergent Meeting - 1st Degree
DESCRIPTION:
URL:https://stgeorges15.com/calendar/september-emergent-meeting-1st-degree/
LOCATION:Masonic Memorial Temple\, 23 Centre Street\, St. Catharines\, Ontario\, Canada
CATEGORIES:Lodge Meetings
ATTACH;FMTTYPE=image/png:https://stgeorges15.com/wp-content/uploads/2025/06/image0.png
END:VEVENT
BEGIN:VEVENT
DTSTART;TZID=America/Toronto:20251014T193000
DTEND;TZID=America/Toronto:20251014T210000
DTSTAMP:20260424T053523
CREATED:20250710T182705Z
LAST-MODIFIED:20260113T164930Z
UID:2013-1760470200-1760475600@stgeorges15.com
SUMMARY:October Regular Meeting
DESCRIPTION:
URL:https://stgeorges15.com/calendar/october-regular-meeting-2/
LOCATION:Masonic Memorial Temple\, 23 Centre Street\, St. Catharines\, Ontario\, Canada
CATEGORIES:Lodge Meetings
ATTACH;FMTTYPE=image/png:https://stgeorges15.com/wp-content/uploads/2025/05/FINAL-Hat-logo-St.-Georges-15-v5-2-no-red-background-2.png
END:VEVENT
BEGIN:VEVENT
DTSTART;TZID=America/Toronto:20251111T193000
DTEND;TZID=America/Toronto:20251111T210000
DTSTAMP:20260424T053523
CREATED:20250710T182752Z
LAST-MODIFIED:20260113T164915Z
UID:2014-1762889400-1762894800@stgeorges15.com
SUMMARY:November Regular Meeting
DESCRIPTION:
URL:https://stgeorges15.com/calendar/november-regular-meeting-2/
LOCATION:Masonic Memorial Temple\, 23 Centre Street\, St. Catharines\, Ontario\, Canada
CATEGORIES:Lodge Meetings
ATTACH;FMTTYPE=image/png:https://stgeorges15.com/wp-content/uploads/2025/05/FINAL-Hat-logo-St.-Georges-15-v5-2-no-red-background-2.png
END:VEVENT
BEGIN:VEVENT
DTSTART;TZID=America/Toronto:20251111T193000
DTEND;TZID=America/Toronto:20251111T213000
DTSTAMP:20260424T053523
CREATED:20241001T225019Z
LAST-MODIFIED:20260112T150020Z
UID:1369-1762889400-1762896600@stgeorges15.com
SUMMARY:November Regular Meeting - Official Visit
DESCRIPTION:
URL:https://stgeorges15.com/calendar/november-regular-meeting/
LOCATION:Masonic Memorial Temple\, 23 Centre Street\, St. Catharines\, Ontario\, Canada
CATEGORIES:District Events,Lodge Meetings
ATTACH;FMTTYPE=image/png:https://stgeorges15.com/wp-content/uploads/2025/08/DistrictA_Logo2-2.png
END:VEVENT
BEGIN:VEVENT
DTSTART;TZID=America/Toronto:20251209T193000
DTEND;TZID=America/Toronto:20251209T210000
DTSTAMP:20260424T053523
CREATED:20250710T182844Z
LAST-MODIFIED:20260113T164905Z
UID:2015-1765308600-1765314000@stgeorges15.com
SUMMARY:December Regular Meeting
DESCRIPTION:
URL:https://stgeorges15.com/calendar/december-regular-meeting-2/
LOCATION:Masonic Memorial Temple\, 23 Centre Street\, St. Catharines\, Ontario\, Canada
CATEGORIES:Lodge Meetings
ATTACH;FMTTYPE=image/png:https://stgeorges15.com/wp-content/uploads/2025/05/FINAL-Hat-logo-St.-Georges-15-v5-2-no-red-background-2.png
END:VEVENT
BEGIN:VEVENT
DTSTART;TZID=America/Toronto:20260113T193000
DTEND;TZID=America/Toronto:20260113T213000
DTSTAMP:20260424T053523
CREATED:20241009T191050Z
LAST-MODIFIED:20260113T165037Z
UID:1571-1768332600-1768339800@stgeorges15.com
SUMMARY:January Regular Meeting
DESCRIPTION:
URL:https://stgeorges15.com/calendar/january-regular-meeting/
LOCATION:Masonic Memorial Temple\, 23 Centre Street\, St. Catharines\, Ontario\, Canada
CATEGORIES:Lodge Meetings
ATTACH;FMTTYPE=image/png:https://stgeorges15.com/wp-content/uploads/2025/05/FINAL-Hat-logo-St.-Georges-15-v5-2-no-red-background-2.png
END:VEVENT
BEGIN:VEVENT
DTSTART;TZID=America/Toronto:20260127T193000
DTEND;TZID=America/Toronto:20260127T210000
DTSTAMP:20260424T053523
CREATED:20260113T173821Z
LAST-MODIFIED:20260113T173922Z
UID:2109-1769542200-1769547600@stgeorges15.com
SUMMARY:January - Emergent Meeting
DESCRIPTION:2nd Degree – Sylvain Desroches
URL:https://stgeorges15.com/calendar/january-emergent-meeting/
LOCATION:Masonic Memorial Temple\, 23 Centre Street\, St. Catharines\, Ontario\, Canada
CATEGORIES:Lodge Meetings
ATTACH;FMTTYPE=image/png:https://stgeorges15.com/wp-content/uploads/2025/05/FINAL-Hat-logo-St.-Georges-15-v5-2-no-red-background-2.png
END:VEVENT
BEGIN:VEVENT
DTSTART;TZID=America/Toronto:20260210T193000
DTEND;TZID=America/Toronto:20260210T213000
DTSTAMP:20260424T053523
CREATED:20241009T191138Z
LAST-MODIFIED:20260113T165026Z
UID:1572-1770751800-1770759000@stgeorges15.com
SUMMARY:February Regular Meeting
DESCRIPTION:
URL:https://stgeorges15.com/calendar/february-regular-meeting/
LOCATION:Masonic Memorial Temple\, 23 Centre Street\, St. Catharines\, Ontario\, Canada
CATEGORIES:Lodge Meetings
ATTACH;FMTTYPE=image/png:https://stgeorges15.com/wp-content/uploads/2025/05/FINAL-Hat-logo-St.-Georges-15-v5-2-no-red-background-2.png
END:VEVENT
BEGIN:VEVENT
DTSTART;TZID=America/Toronto:20260310T193000
DTEND;TZID=America/Toronto:20260310T213000
DTSTAMP:20260424T053523
CREATED:20241009T191242Z
LAST-MODIFIED:20260113T165016Z
UID:1573-1773171000-1773178200@stgeorges15.com
SUMMARY:March Regular Meeting
DESCRIPTION:
URL:https://stgeorges15.com/calendar/march-regular-meeting/
LOCATION:Masonic Memorial Temple\, 23 Centre Street\, St. Catharines\, Ontario\, Canada
CATEGORIES:Lodge Meetings
ATTACH;FMTTYPE=image/png:https://stgeorges15.com/wp-content/uploads/2025/05/FINAL-Hat-logo-St.-Georges-15-v5-2-no-red-background-2.png
END:VEVENT
BEGIN:VEVENT
DTSTART;TZID=America/Toronto:20260414T193000
DTEND;TZID=America/Toronto:20260414T213000
DTSTAMP:20260424T053523
CREATED:20241009T191517Z
LAST-MODIFIED:20260113T165006Z
UID:1574-1776195000-1776202200@stgeorges15.com
SUMMARY:April Regular Meeting
DESCRIPTION:
URL:https://stgeorges15.com/calendar/april-regular-meeting/
LOCATION:Masonic Memorial Temple\, 23 Centre Street\, St. Catharines\, Ontario\, Canada
CATEGORIES:Lodge Meetings
ATTACH;FMTTYPE=image/png:https://stgeorges15.com/wp-content/uploads/2025/05/FINAL-Hat-logo-St.-Georges-15-v5-2-no-red-background-2.png
END:VEVENT
BEGIN:VEVENT
DTSTART;TZID=America/Toronto:20260512T193000
DTEND;TZID=America/Toronto:20260512T213000
DTSTAMP:20260424T053523
CREATED:20241009T191611Z
LAST-MODIFIED:20260113T164955Z
UID:1575-1778614200-1778621400@stgeorges15.com
SUMMARY:May Regular Meeting
DESCRIPTION:
URL:https://stgeorges15.com/calendar/may-regular-meeting/
LOCATION:Masonic Memorial Temple\, 23 Centre Street\, St. Catharines\, Ontario\, Canada
CATEGORIES:Lodge Meetings
ATTACH;FMTTYPE=image/png:https://stgeorges15.com/wp-content/uploads/2025/05/FINAL-Hat-logo-St.-Georges-15-v5-2-no-red-background-2.png
END:VEVENT
BEGIN:VEVENT
DTSTART;TZID=America/Toronto:20260609T193000
DTEND;TZID=America/Toronto:20260609T213000
DTSTAMP:20260424T053523
CREATED:20241009T191700Z
LAST-MODIFIED:20260113T164945Z
UID:1576-1781033400-1781040600@stgeorges15.com
SUMMARY:June Regular Meeting
DESCRIPTION:
URL:https://stgeorges15.com/calendar/june-regular-meeting/
LOCATION:Masonic Memorial Temple\, 23 Centre Street\, St. Catharines\, Ontario\, Canada
CATEGORIES:Lodge Meetings
ATTACH;FMTTYPE=image/png:https://stgeorges15.com/wp-content/uploads/2025/05/FINAL-Hat-logo-St.-Georges-15-v5-2-no-red-background-2.png
END:VEVENT
BEGIN:VEVENT
DTSTART;TZID=America/Toronto:20260623T190000
DTEND;TZID=America/Toronto:20260623T220000
DTSTAMP:20260424T053523
CREATED:20241009T191752Z
LAST-MODIFIED:20260112T152327Z
UID:1577-1782241200-1782252000@stgeorges15.com
SUMMARY:June Regular Meeting - Installation
DESCRIPTION:
URL:https://stgeorges15.com/calendar/june-emergent-meeting-installation/
LOCATION:Ontario
CATEGORIES:Lodge Meetings
ATTACH;FMTTYPE=image/png:https://stgeorges15.com/wp-content/uploads/2025/05/FINAL-Hat-logo-St.-Georges-15-v5-2-no-red-background-2.png
END:VEVENT
END:VCALENDAR