BEGIN:VCALENDAR
VERSION:2.0
PRODID:-//St. George&#039;s Lodge no. 15 - ECPv6.15.20//NONSGML v1.0//EN
CALSCALE:GREGORIAN
METHOD:PUBLISH
X-ORIGINAL-URL:https://stgeorges15.com
X-WR-CALDESC:Events for St. George&#039;s Lodge no. 15
REFRESH-INTERVAL;VALUE=DURATION:PT1H
X-Robots-Tag:noindex
X-PUBLISHED-TTL:PT1H
BEGIN:VTIMEZONE
TZID:America/Toronto
BEGIN:DAYLIGHT
TZOFFSETFROM:-0500
TZOFFSETTO:-0400
TZNAME:EDT
DTSTART:20240310T070000
END:DAYLIGHT
BEGIN:STANDARD
TZOFFSETFROM:-0400
TZOFFSETTO:-0500
TZNAME:EST
DTSTART:20241103T060000
END:STANDARD
BEGIN:DAYLIGHT
TZOFFSETFROM:-0500
TZOFFSETTO:-0400
TZNAME:EDT
DTSTART:20250309T070000
END:DAYLIGHT
BEGIN:STANDARD
TZOFFSETFROM:-0400
TZOFFSETTO:-0500
TZNAME:EST
DTSTART:20251102T060000
END:STANDARD
BEGIN:DAYLIGHT
TZOFFSETFROM:-0500
TZOFFSETTO:-0400
TZNAME:EDT
DTSTART:20260308T070000
END:DAYLIGHT
BEGIN:STANDARD
TZOFFSETFROM:-0400
TZOFFSETTO:-0500
TZNAME:EST
DTSTART:20261101T060000
END:STANDARD
END:VTIMEZONE
BEGIN:VEVENT
DTSTART;TZID=America/Toronto:20251014T193000
DTEND;TZID=America/Toronto:20251014T210000
DTSTAMP:20260421T044217
CREATED:20250710T182705Z
LAST-MODIFIED:20260113T164930Z
UID:2013-1760470200-1760475600@stgeorges15.com
SUMMARY:October Regular Meeting
DESCRIPTION:
URL:https://stgeorges15.com/calendar/october-regular-meeting-2/
LOCATION:Masonic Memorial Temple\, 23 Centre Street\, St. Catharines\, Ontario\, Canada
CATEGORIES:Lodge Meetings
ATTACH;FMTTYPE=image/png:https://stgeorges15.com/wp-content/uploads/2025/05/FINAL-Hat-logo-St.-Georges-15-v5-2-no-red-background-2.png
END:VEVENT
BEGIN:VEVENT
DTSTART;TZID=America/Toronto:20251018T100000
DTEND;TZID=America/Toronto:20251018T170000
DTSTAMP:20260421T044217
CREATED:20241006T002705Z
LAST-MODIFIED:20250820T144541Z
UID:1494-1760781600-1760806800@stgeorges15.com
SUMMARY:Doors Open Niagara - Niagara #2 Open House
DESCRIPTION:
URL:https://stgeorges15.com/calendar/doors-open-niagara-niagara-2-open-house/
LOCATION:Niagara Lodge no. 2\, 153 King Street\, Niagara-on-the-Lake\, Ontario\, Canada
CATEGORIES:District Events
END:VEVENT
BEGIN:VEVENT
DTSTART;TZID=America/Toronto:20251020T193000
DTEND;TZID=America/Toronto:20251020T213000
DTSTAMP:20260421T044217
CREATED:20250820T151216Z
LAST-MODIFIED:20260112T145715Z
UID:2035-1760988600-1760995800@stgeorges15.com
SUMMARY:Official Visit - Garden City Lodge No. 221
DESCRIPTION:
URL:https://stgeorges15.com/calendar/official-visit-garden-city-lodge-no-221/
LOCATION:Ontario
CATEGORIES:District Events
ATTACH;FMTTYPE=image/png:https://stgeorges15.com/wp-content/uploads/2025/08/DistrictA_Logo2-2.png
END:VEVENT
BEGIN:VEVENT
DTSTART;TZID=America/Toronto:20251021T193000
DTEND;TZID=America/Toronto:20251021T210000
DTSTAMP:20260421T044217
CREATED:20241006T001259Z
LAST-MODIFIED:20260112T145958Z
UID:1483-1761075000-1761080400@stgeorges15.com
SUMMARY:Official Visit - Dufferin Lodge
DESCRIPTION:
URL:https://stgeorges15.com/calendar/official-visit-dufferin-lodge/
LOCATION:Dufferin Lodge\, 5167 Canborough Road\, Wellandport\, Ontario\, Canada
CATEGORIES:District Events
ATTACH;FMTTYPE=image/png:https://stgeorges15.com/wp-content/uploads/2025/08/DistrictA_Logo2-2.png
END:VEVENT
END:VCALENDAR